BEGIN:VCALENDAR
PRODID:-//Google Inc//Google Calendar 70.9054//EN
VERSION:2.0
CALSCALE:GREGORIAN
METHOD:REQUEST
BEGIN:VEVENT
DTSTART:20110715T160000Z
DTEND:20110715T180000Z
DTSTAMP:20110630T190015Z
ORGANIZER;CN=Christian.Winterstein@gmail.com:mailto:christian.winterstein@g
 mail.com
UID:rse1sf5i41evkduf32daonrcak@google.com
ATTENDEE;CUTYPE=INDIVIDUAL;ROLE=REQ-PARTICIPANT;PARTSTAT=NEEDS-ACTION;RSVP=
 TRUE;CN=nds-wolfsburg@lists.piratenpartei.de;X-NUM-GUESTS=0:mailto:nds-wolf
 sburg@lists.piratenpartei.de
ATTENDEE;CUTYPE=INDIVIDUAL;ROLE=REQ-PARTICIPANT;PARTSTAT=ACCEPTED;RSVP=TRUE
 ;CN=Christian Winterstein;X-NUM-GUESTS=0:mailto:christian.winterstein@gmail
 .com
CREATED:20110630T190014Z
DESCRIPTION:Zeigen Sie Ihren Termin unter http://www.google.com/calendar/ev
 ent?action=VIEW&eid=cnNlMXNmNWk0MWV2a2R1ZjMyZGFvbnJjYWsgbmRzLXdvbGZzYnVyZ0B
 saXN0cy5waXJhdGVucGFydGVpLmRl&tok=MzEjY2hyaXN0aWFuLndpbnRlcnN0ZWluQGdtYWlsL
 mNvbWJjN2ExZDUxNmFkMWRkNzIxYjVkYjY3MWZkYzFmNDQwYWYwYmVjODg&ctz=Europe%2FBer
 lin&hl=de an.
LAST-MODIFIED:20110630T190014Z
LOCATION:Zum Fuhrenkamp 4\, 38448 Wolfsburg
SEQUENCE:0
STATUS:CONFIRMED
SUMMARY:1. ordentliche Vorstandssitzung + Aufstellungsversammlung
TRANSP:OPAQUE
END:VEVENT
END:VCALENDAR
