BEGIN:VCALENDAR
PRODID:-//Google Inc//Google Calendar 70.9054//EN
VERSION:2.0
CALSCALE:GREGORIAN
METHOD:REQUEST
BEGIN:VEVENT
DTSTART:20120511T150000Z
DTEND:20120511T180000Z
DTSTAMP:20120411T131334Z
ORGANIZER;CN=fraktion.piratents@googlemail.com:mailto:fraktion.piratents@go
 oglemail.com
UID:ebercntc8adr156fo6s9rs37mg@google.com
ATTENDEE;CUTYPE=INDIVIDUAL;ROLE=REQ-PARTICIPANT;PARTSTAT=NEEDS-ACTION;RSVP=
 TRUE;CN=berlin-squad-integration@lists.piratenpartei.de;X-NUM-GUESTS=0:mail
 to:berlin-squad-integration@lists.piratenpartei.de
ATTENDEE;CUTYPE=INDIVIDUAL;ROLE=REQ-PARTICIPANT;PARTSTAT=NEEDS-ACTION;RSVP=
 TRUE;CN=berlin-tempelhof-schoeneberg@lists.piratenpartei.de;X-NUM-GUESTS=0:
 mailto:berlin-tempelhof-schoeneberg@lists.piratenpartei.de
ATTENDEE;CUTYPE=INDIVIDUAL;ROLE=REQ-PARTICIPANT;PARTSTAT=ACCEPTED;RSVP=TRUE
 ;CN=fraktion.piratents@googlemail.com;X-NUM-GUESTS=0:mailto:fraktion.pirate
 nts@googlemail.com
ATTENDEE;CUTYPE=INDIVIDUAL;ROLE=REQ-PARTICIPANT;PARTSTAT=NEEDS-ACTION;RSVP=
 TRUE;CN=stefan.schulz-guenther@posteo.de;X-NUM-GUESTS=0:mailto:stefan.schul
 z-guenther@posteo.de
CREATED:20120411T124413Z
DESCRIPTION:FYI\nvielleicht könnte man da auch mit Partei und Squad was mac
 hen?\nStephan\, hättest du Lust für die Fraktion Teilzunhemen?\n\nvG\, Rebe
 cca\nZeigen Sie Ihren Termin unter http://www.google.com/calendar/event?act
 ion=VIEW&eid=ZWJlcmNudGM4YWRyMTU2Zm82czlyczM3bWcgYmVybGluLXNxdWFkLWludGVncm
 F0aW9uQGxpc3RzLnBpcmF0ZW5wYXJ0ZWkuZGU&tok=MzMjZnJha3Rpb24ucGlyYXRlbnRzQGdvb
 2dsZW1haWwuY29tMTEwNGZiMDVkYjMzYjgzYmZmMTllYmI0MjczMjE5ZWE4YmY5YTBiZA&ctz=E
 urope/Berlin&hl=de an.
LAST-MODIFIED:20120411T131334Z
LOCATION:Viktoriastr.13\, 12105 Berlin
SEQUENCE:0
STATUS:CONFIRMED
SUMMARY:Inklusionsfest
TRANSP:OPAQUE
ATTACH:https%3A%2F%2Fdocs.google.com%2Ffile%2Fd%2F0B9orotyHnKKvYTkxS3d5bW5r
 WEk%2Fedit
END:VEVENT
END:VCALENDAR
